BEGIN:VCALENDAR
VERSION:2.0
PRODID:-//Armageddon - ECPv6.6.3//NONSGML v1.0//EN
CALSCALE:GREGORIAN
METHOD:PUBLISH
X-WR-CALNAME:Armageddon
X-ORIGINAL-URL:https://lasersport.com
X-WR-CALDESC:Events for Armageddon
REFRESH-INTERVAL;VALUE=DURATION:PT1H
X-Robots-Tag:noindex
X-PUBLISHED-TTL:PT1H
BEGIN:VTIMEZONE
TZID:UTC
BEGIN:STANDARD
TZOFFSETFROM:+0000
TZOFFSETTO:+0000
TZNAME:UTC
DTSTART:20230101T000000
END:STANDARD
END:VTIMEZONE
BEGIN:VEVENT
DTSTART;TZID=UTC:20231103T230000
DTEND;TZID=UTC:20231105T050000
DTSTAMP:20260425T063905
CREATED:20231019T200511Z
LAST-MODIFIED:20231019T200511Z
UID:21-1699052400-1699160400@lasersport.com
SUMMARY:Battle For The Fort IX
DESCRIPTION:Event page: https://www.facebook.com/events/211262851692366\nCost:\n-$80 pre-registration per player\nDue Oct 1st\n-$100 Registration per player\nDue by day 1 of event.\nTeam Size:\n-Quads Tournament + 1alt\nGame Formats:\n-Team Comp (8min games\, opposed to 10min)\n-Team Elim\n-Swede (Base Run)\n-Solos/Doubles\n-LOR (Thursday)\nSchedule:\n-Thursday\, 6pm – 10/11pm (Separate $10 LOR not mandatory)\n-Friday\, 11pm – 5am / 2 side events + Comp\n-Saturday\, 11pm – 5am / 1 side event + Comp\nDetails:\n-Dates to be confirmed (Nats ’23)\n-Team size confirmed as more teams can form this way\n-Signups due no later than 1 month before event (October 1st)\n-Preregistration is $80 due 1 month before event (October 1st)\n-Registration due day of event $100 (November 2nd)\nMore details to come. Feel free to reach out or comment with any questions or concerns.
URL:https://lasersport.com/event/battle-for-the-fort-ix/
LOCATION:Ultrazone Laser Tag\, 1104 W Coliseum Blvd\, Fort Wayne\, IN\, 46808\, United States
CATEGORIES:Zone
ATTACH;FMTTYPE=image/jpeg:https://lasersport.com/wp-content/uploads/2023/10/383994994_10159649864575732_811488323434776646_n.jpg
END:VEVENT
END:VCALENDAR